BEGIN:VCALENDAR
VERSION:2.0
PRODID:-//https://www.pg-westliches-grabfeld.de///NONSGML kigkonsult.se iCalcreator 2.10.15//
METHOD:PUBLISH
BEGIN:VEVENT
UID:20260424T023856CEST-7424EG9a5w@https://www.pg-westliches-grabfeld.de/
DTSTAMP:20260424T003856Z
DESCRIPTION: https://www.pg-westliches-grabfeld.de/aktuelles/kalender/event
 /36-gemütliches-beisammensein-mit-grillspezialitäten-nach-dem-bittgang-in-
 kleinbardorf
DTSTART:20220525T170000Z
DTEND:20220525T200000Z
LOCATION:Kleinbardorf ()
SUMMARY:Gemütliches Beisammensein mit Grillspezialitäten nach dem Bittgang 
 in Kleinbardorf
URL:https://www.pg-westliches-grabfeld.de/aktuelles/kalender/event/36-gemüt
 liches-beisammensein-mit-grillspezialitäten-nach-dem-bittgang-in-kleinbard
 orf
END:VEVENT
END:VCALENDAR
