BEGIN:VCALENDAR
VERSION:2.0
PRODID:-//https://www.pg-westliches-grabfeld.de///NONSGML kigkonsult.se iCalcreator 2.10.15//
METHOD:PUBLISH
BEGIN:VEVENT
UID:20260423T221752CEST-8505LugCgc@https://www.pg-westliches-grabfeld.de/
DTSTAMP:20260423T201752Z
DESCRIPTION: https://www.pg-westliches-grabfeld.de/aktuelles/kalender/event
 /34-pfarrfest-in-sulzfeld
DTSTART;VALUE=DATE:20220522
LOCATION:Sulzfeld ()
SUMMARY:Pfarrfest in Sulzfeld
URL:https://www.pg-westliches-grabfeld.de/aktuelles/kalender/event/34-pfarr
 fest-in-sulzfeld
END:VEVENT
END:VCALENDAR
